BEGIN:VCALENDAR
VERSION:2.0
CALSCALE:GREGORIAN
PRODID:adamgibbons/ics
METHOD:PUBLISH
X-PUBLISHED-TTL:PT1H
BEGIN:VEVENT
UID:18@vigo.acontece.gal
SUMMARY:GALPon - Xuntanza mensual de abril
DTSTAMP:20260425T012842Z
DTSTART:20260425T163000Z
DTEND:20260425T193000Z
DESCRIPTION:O noso encontro habitual\, falamos\, non sempre de tecnoloxía\,
	 botamos un\nrefresco\, unhas risas... a cousa e vernos e coñecernos.\n\nL
	embrade que\, coma sempre\, sexades ou non socios de GALPon sodes ben reci
	bidos.\n\nDe todos os xeitos\, permanecede atentos por se houber novidades
	 ou houber algún\nproblema coa cafetería (p. ex. que non abra ese día) que
	 entón xa diriamos onde\nir.
URL:https://vigo.acontece.gal/event/galpon-xuntanza-mensual-de-abril
LOCATION:Crismagna\, Vigo - 4\, Rúa de Eugenio Kraff\, A Carballa\, Balaído
	s\, Vigo\, Pontevedra\, Galicia\, 36210\, España
STATUS:CONFIRMED
CATEGORIES:colaborar,conectar,debater,descubrir,networking,softwarelibre
X-ALT-DESC;FMTTYPE=text/html:<p>O noso encontro habitual, falamos, non semp
	re de tecnoloxía, botamos un refresco, unhas risas... a cousa e vernos e c
	oñecernos.</p><p>Lembrade que, coma sempre, sexades ou non socios de GALPo
	n sodes ben recibidos.</p><p>De todos os xeitos, permanecede atentos por s
	e houber novidades ou houber algún problema coa cafetería (p. ex. que non 
	abra ese día) que entón xa diriamos onde ir.</p>
BEGIN:VALARM
ACTION:DISPLAY
DESCRIPTION:GALPon - Xuntanza mensual de abril
TRIGGER:-PT1H
END:VALARM
END:VEVENT
END:VCALENDAR
